BEGIN:VCALENDAR
VERSION:2.0
PRODID:-//eventon.com NONSGML v1.0//EN
CALSCALE:GREGORIAN
METHOD:PUBLISH
BEGIN:VEVENT
UID:69ed082e3f708
DTSTAMP:20260425T193006
DTSTART:20240405T183000Z
DTEND:20240405T230000Z
TZID:Europe/London
LOCATION:
SUMMARY:Monthly Drinks
DESCRIPTION:Brethren\,  the first Friday of the month can only mean one thing… Pub Drinks! Please join us for our monthly drinks where we welcome new members and guests. All are welcome so please do invite friends and family. As always\,  finger food &amp; the first round is on the Club![..]\nhttps://connaughtclub.org/index.php/events/monthly-drinks-3/
URL:https://connaughtclub.org/index.php/events/monthly-drinks-3/
END:VEVENT
END:VCALENDAR