BEGIN:VCALENDAR
VERSION:2.0
PRODID:-//eventon.com NONSGML v1.0//EN
CALSCALE:GREGORIAN
METHOD:PUBLISH
BEGIN:VEVENT
UID:69e653d98927e
DTSTAMP:20260420T172705
DTSTART:20250712T103000Z
DTEND:20250712T230000Z
TZID:Europe/London
LOCATION:
SUMMARY:Clay Shoot & Dinner
DESCRIPTION:The Club will be hosting it&#8217;s annual shoot and dinner on 12th July. As per previous years\,  we’ll provide full coaching and use of all the equipment needed for a perfect day of clay shooting. After we’re finished\,  we’ll make our way back to London to socialise casually before settling[..]\nhttps://connaughtclub.org/index.php/events/clay-shoot-dinner-2/
URL:https://connaughtclub.org/index.php/events/clay-shoot-dinner-2/
END:VEVENT
END:VCALENDAR