BEGIN:VCALENDAR
VERSION:2.0
PRODID:-//eventon.com NONSGML v1.0//EN
CALSCALE:GREGORIAN
METHOD:PUBLISH
BEGIN:VEVENT
UID:69ebbffecb9e1
DTSTAMP:20260424T200950
DTSTART:20251113T190000Z
DTEND:20251113T220000Z
TZID:Europe/London
LOCATION:
SUMMARY:Secretary's Dinner
DESCRIPTION:Boulevard Brasserie | Thursday 13th November 2025 The Secretary is pleased to announce that this year’s Secretary’s Dinner will be held on Thursday 13th November at Boulevard Brasserie\,  40 Wellington Street\,  London\,  WC2E 7BD. This year’s gathering takes on a “Steak Frites Night” theme\,  celebrating classic French bistro dining in[..]\nhttps://connaughtclub.org/index.php/events/secretarys-dinner-2/
URL:https://connaughtclub.org/index.php/events/secretarys-dinner-2/
END:VEVENT
END:VCALENDAR